BEGIN:VCALENDAR
VERSION:2.0
PRODID:-//wp-events-plugin.com//6.4.7.3//EN
TZID:Europe/Berlin
X-WR-TIMEZONE:Europe/Berlin
BEGIN:VEVENT
UID:71@schuetzenverein-achim.de
DTSTART;TZID=Europe/Berlin:20231220T180000
DTEND;TZID=Europe/Berlin:20231220T200000
DTSTAMP:20221201T145008Z
URL:https://www.schuetzenverein-achim.de/events/training-luft-kk-2023-12-2
 0/
SUMMARY:Training Luft/KK
DESCRIPTION:
CATEGORIES:Luft/KK,Training
END:VEVENT
BEGIN:VTIMEZONE
TZID:Europe/Berlin
X-LIC-LOCATION:Europe/Berlin
BEGIN:STANDARD
DTSTART:20231029T020000
TZOFFSETFROM:+0200
TZOFFSETTO:+0100
TZNAME:CET
END:STANDARD
END:VTIMEZONE
END:VCALENDAR