BEGIN:VCALENDAR
VERSION:2.0
PRODID:-//wp-events-plugin.com//6.4.7.3//EN
TZID:Europe/Berlin
X-WR-TIMEZONE:Europe/Berlin
BEGIN:VEVENT
UID:167@schuetzenverein-achim.de
DTSTART;TZID=Europe/Berlin:20230714T170000
DTEND;TZID=Europe/Berlin:20230714T230000
DTSTAMP:20230628T100449Z
URL:https://www.schuetzenverein-achim.de/events/schuetzenfest/
SUMMARY:Schützenfest - Zapfenstreich
DESCRIPTION:
CATEGORIES:Feiern
END:VEVENT
BEGIN:VTIMEZONE
TZID:Europe/Berlin
X-LIC-LOCATION:Europe/Berlin
BEGIN:DAYLIGHT
DTSTART:20230326T030000
TZOFFSETFROM:+0100
TZOFFSETTO:+0200
TZNAME:CEST
END:DAYLIGHT
END:VTIMEZONE
END:VCALENDAR